BEGIN:VCALENDAR
VERSION:2.0
PRODID:-//Edith Cowan University Student Guild - ECPv6.15.20//NONSGML v1.0//EN
CALSCALE:GREGORIAN
METHOD:PUBLISH
X-ORIGINAL-URL:https://ecuguild.org.au
X-WR-CALDESC:Events for Edith Cowan University Student Guild
REFRESH-INTERVAL;VALUE=DURATION:PT1H
X-Robots-Tag:noindex
X-PUBLISHED-TTL:PT1H
BEGIN:VTIMEZONE
TZID:Asia/Shanghai
BEGIN:STANDARD
TZOFFSETFROM:+0800
TZOFFSETTO:+0800
TZNAME:CST
DTSTART:20250101T000000
END:STANDARD
END:VTIMEZONE
BEGIN:VEVENT
DTSTART;TZID=Asia/Shanghai:20260325T153000
DTEND;TZID=Asia/Shanghai:20260527T173000
DTSTAMP:20260421T041845
CREATED:20260318T031546Z
LAST-MODIFIED:20260331T004858Z
UID:24812-1774452600-1779903000@ecuguild.org.au
SUMMARY:ECU Chill Out Sessions
DESCRIPTION:[vc_row][vc_column][vc_column_text css=””]\n\n\n\n✨ ECU Chill Out Sessions ✨ \nNeed a break from studies? Come relax and recharge at our ECU Chill Out Sessions! 🧘‍♀️💙 \nJoin us for a calm and friendly space where you can unwind\, connect with other students\, and enjoy relaxing activities. Whether you want to de-stress\, take a study break\, or just hang out with friends\, this is the perfect spot to reset your mind. 🌿 \nDATE: Every Wednesday from 25 March until the end of Week 13.\nTIME: 3:30 – 5:30\nWHERE: Outside the Guild Office\, Building 34 \n🎶 Relaxing vibes\n🎲 Fun chill activities\n💬 Meet new people\n😌 Take a well-deserved break \nEveryone is welcome — just drop by and chill with us! \n#ECU #ECUStudents #ECUStudentLife #ChillOutSessions #StudyBreak #StudentWellbeing #UniLife #RelaxRecharge\n\n\n\n[/vc_column_text][/vc_column][/vc_row]
URL:https://ecuguild.org.au/event/ecu-chill-out-sessions/
LOCATION:ECU Guild Joondalup\, Building 34\, 215c\, ECU Joondalup Campus
CATEGORIES:ECU Joondalup
ATTACH;FMTTYPE=image/png:https://ecuguild.org.au/wp-content/uploads/2026/03/Humanitix-FB-event-image-1000-x-500-px-1.png
END:VEVENT
BEGIN:VEVENT
DTSTART;TZID=Asia/Shanghai:20260409T090000
DTEND;TZID=Asia/Shanghai:20260409T140000
DTSTAMP:20260421T041845
CREATED:20260325T060547Z
LAST-MODIFIED:20260331T013743Z
UID:24858-1775725200-1775743200@ecuguild.org.au
SUMMARY:Equity Morning Tea - City & Joondalup Campus
DESCRIPTION:[vc_row][vc_column][vc_column_text css=””]\n🌈 Equity Semester Break Events – Come Connect\, Create & Celebrate! 🌟 \nTake a break from your studies and join us for a relaxed\, inclusive\, and friendly session. Whether you want to grab a cuppa\, meet new people\, do some crafts\, or just unwind\, there’s an event for you 💛📚 \n\n☕💛 Equity Morning Tea – City CampusStep away from your study routine and start your day with connection and community! \n✨ What to expect: \n\nFree morning tea and snacks\nCraft activities 🎨\nFree goodies from Lifeblood ❤️🩸 and learn about their student blood donation initiative\nFriendly conversations in an inclusive space\n\n📍 Where: ECU City Campus🗓️ When: Thursday\, 9 April⏰ Time: 9:00 AM👨‍👩‍👧 Parents & Carers: Welcome – children can join too. \n\n🎨💜 Equity Meet & Greet – Pride RoomTake a midday break\, grab a coffee or juice\, and join us for a relaxed\, creative session. \n✨ What to expect: \n\nGather in the Pride Room\, then head to Café 6 together for drinks ☕💬\nReturn for crafts\, chats\, and connection 🌿\nA low-key\, supportive space to unwind and meet peers\n\n📍 Where: Pride Room (meet here first – next to Café 6)🗓️ When: Thursday\, 9April⏰ Time: 12:00 PM👨‍👩‍👧 Parents & Carers: Welcome – children can join too. \n\n💛 Come along to one or both events\, bring a friend (or your little one!)\, and celebrate connection\, community on campus 🌈🤝 \n[/vc_column_text][/vc_column][/vc_row]
URL:https://ecuguild.org.au/event/equity-morning-tea-city-joondalup-campus/
CATEGORIES:ECU City,ECU Joondalup
ATTACH;FMTTYPE=image/webp:https://ecuguild.org.au/wp-content/uploads/2026/03/Humanitix-FB-event-image-13.webp
END:VEVENT
BEGIN:VEVENT
DTSTART;TZID=Asia/Shanghai:20260410T110000
DTEND;TZID=Asia/Shanghai:20260410T140000
DTSTAMP:20260421T041845
CREATED:20260331T013419Z
LAST-MODIFIED:20260331T014211Z
UID:24893-1775818800-1775829600@ecuguild.org.au
SUMMARY:Swan Valley Lunch Cruise
DESCRIPTION:[vc_row][vc_column][vc_column_text css=””]🚤🌊 Swan River Lunch Cruise 🌊🚤 \nTake a break from campus and step aboard for an unforgettable afternoon cruising along the stunning Swan River ✨ \nJoin us for a relaxed and social experience as we make our way down to Fremantle and back — soaking up the sunshine\, river views\, and good vibes along the way ☀️🌊 \nOnce on board\, you’ll be seated at your reserved table before enjoying:\n🍽️ A delicious buffet lunch featuring fresh\, seasonal produce\n🥗 Hot dishes\, salads + a dessert buffet\n🎤 Live captain’s commentary during the cruise\n🍹 Access to a fully stocked bar (available for purchase) \nWhether you’re looking to unwind\, meet new people\, or just do something different with your day — this is the perfect mid-semester escape. \n🎟 Tickets: $50 (includes full buffet lunch — normally $115!)\n⏳ Spots are limited — don’t miss out! \nBook now at: https://events.humanitix.com/swan-river-lunch-cruise \nGrab your friends and get ready to cruise into one of Perth’s best experiences 🚤✨[/vc_column_text][/vc_column][/vc_row]
URL:https://ecuguild.org.au/event/swan-valley-lunch-cruise/
LOCATION:Barrack Street Jetty\, Perth
CATEGORIES:External
ATTACH;FMTTYPE=image/png:https://ecuguild.org.au/wp-content/uploads/2026/03/Humanitix-FB-event-image-14.png
END:VEVENT
BEGIN:VEVENT
DTSTART;TZID=Asia/Shanghai:20260414T080000
DTEND;TZID=Asia/Shanghai:20260602T170000
DTSTAMP:20260421T041845
CREATED:20260325T071551Z
LAST-MODIFIED:20260326T071802Z
UID:24865-1776153600-1780419600@ecuguild.org.au
SUMMARY:Quiz Night Tuesdays
DESCRIPTION:[vc_row][vc_column][vc_column_text css=””]\nQuiz Night Tuesdays at ECU Edge 🧠✨ \nPut your trivia skills to the test! Join us at ECU City Campus for an evening of fun\, friendly competition\, and brain-teasing challenges. Bring your friends\, enjoy refreshments\, and compete for exciting giveaways! \nDetails:📍 Location: ECU Edge Area – City Campus🕠 Time: 5:30 PM – 7:30 PM\, Every Tuesday🎟️ Cost: FREE for ECU students\n📅 Starts: Tuesday\, 14 April until the end of semester💰 Extras: Exciting giveaways and refreshments included \nWhether you’re a trivia master or just in it for the laughs\, this is the perfect chance to meet new people and see if your team can take the top spot! \nNo registration needed — just turn up on the day and join in 🙌 \nProudly supported by ECU Library \n[/vc_column_text][/vc_column][/vc_row]
URL:https://ecuguild.org.au/event/quiz-night-tuesdays/
LOCATION:ECU City Campus
CATEGORIES:ECU City
ATTACH;FMTTYPE=image/png:https://ecuguild.org.au/wp-content/uploads/2026/03/Humanitix-FB-event-image-1-1.png
END:VEVENT
BEGIN:VEVENT
DTSTART;TZID=Asia/Shanghai:20260415T160000
DTEND;TZID=Asia/Shanghai:20260415T180000
DTSTAMP:20260421T041845
CREATED:20260331T030623Z
LAST-MODIFIED:20260331T033636Z
UID:24903-1776268800-1776276000@ecuguild.org.au
SUMMARY:Postgrad & HDR Networking - City Campus
DESCRIPTION:[vc_row][vc_column][vc_column_text css=””]\n🎉 PG & HDR Networking Event – ECU City Campus 🎉 \nThe ECU Student Guild warmly invites all Postgraduate (PG) and Higher Degree by Research (HDR) students to join us for a relaxed and welcoming networking event at the City Campus. \nThis is your chance to connect\, unwind\, and feel part of the postgraduate community. Whether you’re new to ECU or continuing your studies\, this event is the perfect opportunity to meet like-minded students and build meaningful connections. \nWhat to expect:• Meet fellow PG and HDR students• Connect with your School Representatives• Learn about Guild support\, services\, and student representation• Grow your network in a friendly\, social environment \nEnjoy pizza\, drinks\, and light refreshments while you mingle 🍕✨ \n📍 Location: ECU City Campus\, Level 4 Edge Space📅 Date: 15 April 2026🕓 Time: 4:00 PM – 6:00 PM \nRegister now at https://events.humanitix.com/pg-and-hdr-networking-event-ecu-city-campus \nWe look forward to welcoming you! \n[/vc_column_text][/vc_column][/vc_row]
URL:https://ecuguild.org.au/event/postgrad-hdr-networking-city-campus/
LOCATION:ECU City Campus
CATEGORIES:ECU City
ATTACH;FMTTYPE=image/png:https://ecuguild.org.au/wp-content/uploads/2026/03/Humanitix-FB-event-image-1000-x-500-px-2.png
END:VEVENT
BEGIN:VEVENT
DTSTART;TZID=Asia/Shanghai:20260416T080000
DTEND;TZID=Asia/Shanghai:20260528T170000
DTSTAMP:20260421T041845
CREATED:20260413T013603Z
LAST-MODIFIED:20260413T014348Z
UID:24934-1776326400-1779987600@ecuguild.org.au
SUMMARY:Thursday Social Sports & Free Food
DESCRIPTION:[vc_row][vc_column][vc_column_text css=””]🏃‍♂️ ECU Guild x ECU Sports 🏀 \n\nFREE FOOD + SOCIAL SPORTS SESSION\n\n\n\n\n\nPull up this Thursday and get involved 👇\n\n\n\n\n\nJoin the ECU Sports sessions\, then stick around — we’re bringing the food 🍕🥤\n\n\n\n\n\n⏰ 12:30 PM – 5:30 PM\n\n\n📍 ECU Sports Centre\n\n\n🎯 FREE pizza + Powerade from 4:00PM (limited — get in quick!)\n\n\n❗ No booking required\n\n\n📱 Just register via the QR code on the day (bring your phone to check in!)\n\n\n\n\n\n🔗 Check out the full Social Sport calendar: intranet.ecu.edu.au/student/campus-life/sport-and-recreation/social-sport-calendar\n\n\n\n\n\nConnect\, unwind\, and make the most of campus life 💙\n\n[/vc_column_text][/vc_column][/vc_row]
URL:https://ecuguild.org.au/event/thursday-social-sports/
CATEGORIES:ECU Joondalup
ATTACH;FMTTYPE=image/png:https://ecuguild.org.au/wp-content/uploads/2026/04/Humanitix-FB-event-image-1000-x-500-px-9.png
END:VEVENT
BEGIN:VEVENT
DTSTART;TZID=Asia/Shanghai:20260416T203000
DTEND;TZID=Asia/Shanghai:20260416T223000
DTSTAMP:20260421T041845
CREATED:20260319T004947Z
LAST-MODIFIED:20260319T005143Z
UID:24822-1776371400-1776378600@ecuguild.org.au
SUMMARY:Dircksey's Masquerade Ball
DESCRIPTION:[vc_row][vc_column][vc_column_text css=””]\nStep into a night of music\, masks\, and celebration at the Dircksey Masquerade Ball. Hosted by Dircksey Magazine and supported by the ECU Student Guild\, enjoy canapés\, a complimentary drink on arrival\, and dancing under the city lights at The Aviary Perth. \n✨ Event Details\n📅 Thursday 16 April\n🕖 8:30PM – 10:30PM\n📍 The Aviary Perth\, Lounge Bar\, Level 1 \n✨ Tickets\n💵 $40 ECU Guild Members\n💵 $50 Non-ECU \n✨ What to Expect\n✦ Formal masquerade affair\n✦ Masks required\n✦ Complimentary drink on arrival\n✦ Canapés and dancing\n✦ Complimentary entry for Dircksey contributors \n🎟️ Limited tickets available — secure yours now. \nUnveil the mystery. \n\nDisclaimer: \nPhotography will be taken at the event\, If you do not wish your photograph to be taken\, please let the organiser know on the day. \nTicket refunds are available up to 7 days out from the event only. No refunds after that\, sorry. \nAny loss or damage to the venue on the night is the responsibility of the student. \nThis is an over 18 event. We do not take any responsibility for students turned away from service if accepted ID is not provided. Please bring your government issued ID\, such as your driver’s licence or passport.[/vc_column_text][/vc_column][/vc_row]
URL:https://ecuguild.org.au/event/dirckseys-masquerade-ball/
LOCATION:The Aviary\, Perth
CATEGORIES:External
ATTACH;FMTTYPE=image/webp:https://ecuguild.org.au/wp-content/uploads/2026/03/Masquerade-Ball.webp
END:VEVENT
BEGIN:VEVENT
DTSTART;TZID=Asia/Shanghai:20260420T163000
DTEND;TZID=Asia/Shanghai:20260420T193000
DTSTAMP:20260421T041845
CREATED:20260410T073827Z
LAST-MODIFIED:20260417T020644Z
UID:24924-1776702600-1776713400@ecuguild.org.au
SUMMARY:Bengali New Year Celebration
DESCRIPTION:[vc_row][vc_column][vc_column_text css=””]🌸🎉 Ready to celebrate the Bengali New Year? 🎉🌸 \nJoin us for a vibrant Pohela Boishakh celebration at ECU Joondalup and experience the colour\, music\, and energy of this beautiful cultural festival ✨ \n📅 Monday 20 April\n⏰ 4:30 PM – 7:30 PM **NEW TIME**\n📍 Outside the Library\, ECU Joondalup Campus \nExpect an afternoon full of:\n🎶 Music & cultural vibes\n💃 Festive energy & celebration\n🍛 Delicious snacks\n🎨 Colour\, tradition & fun activities\n🤝 A chance to connect with friends old & new \nCelebrate your roots or discover something new — everyone is welcome 💛 \n🌼 সবাইকে নববর্ষের শুভেচ্ছা!\n(Happy New Year to everyone!) \n#PohelaBoishakh #BengaliNewYear #ECUEvents #StudentLife #CulturalCelebration[/vc_column_text][/vc_column][/vc_row]
URL:https://ecuguild.org.au/event/bengali-new-year-celebration/
LOCATION:ECU Joondalup\, 270 Joondalup Drive\, Joondalup\, WA\, 6027\, Australia
ATTACH;FMTTYPE=image/png:https://ecuguild.org.au/wp-content/uploads/2026/04/Humanitix-FB-event-image-1000-x-500-px-11.png
END:VEVENT
BEGIN:VEVENT
DTSTART;TZID=Asia/Shanghai:20260421T133000
DTEND;TZID=Asia/Shanghai:20260421T150000
DTSTAMP:20260421T041845
CREATED:20260331T055918Z
LAST-MODIFIED:20260417T014103Z
UID:24915-1776778200-1776783600@ecuguild.org.au
SUMMARY:Sustainability & YOU Festival!
DESCRIPTION:[vc_row][vc_column][vc_column_text css=””]\nGet hands-on with eco-friendly fun at ECU Joondalup! \n\n Activities Include: Design your own tote bag Decorate a Keep Cup or glass Make your own cutlery pouch Take part in the Recycling Challenge & win prizes! Free food for all attendees\n\nBring your favorite bottle\, cup\, or bag — or grab one to design and keep! Reduce waste on campus while making sustainability your everyday habit. \n\n When: Tuesday\, 21 April 2026 Time: 1:30 PM – 3:00 PM Where: In front of Building 32 grass area\, Joondalup Campus\nSchedule:\n12:00–12:15 → Students arrive12:15–12:20 → Welcome & intro from the Environmental Department12:20–12:40 → Guest Speaker: City of Joondalup Waste Management Talk12:40–13:30 → Activity Stations Open\n\nBring your creativity and join us for a fun\, eco-friendly afternoon!  Just turn up and join in the fun!\n[/vc_column_text][/vc_column][/vc_row]
URL:https://ecuguild.org.au/event/sustainability-you-festival/
LOCATION:ECU Joondalup\, 270 Joondalup Drive\, Joondalup\, WA\, 6027\, Australia
CATEGORIES:ECU Joondalup
ATTACH;FMTTYPE=image/png:https://ecuguild.org.au/wp-content/uploads/2026/03/Humanitix-FB-event-image-1000-x-500-px-6.png
END:VEVENT
BEGIN:VEVENT
DTSTART;TZID=Asia/Shanghai:20260421T180000
DTEND;TZID=Asia/Shanghai:20260421T210000
DTSTAMP:20260421T041845
CREATED:20260330T023941Z
LAST-MODIFIED:20260330T042019Z
UID:24875-1776794400-1776805200@ecuguild.org.au
SUMMARY:First Nations Movie Screening - Rabbit Proof Fence
DESCRIPTION:[vc_row][vc_column][vc_column_text css=””]\n🎬 First Nations Film Screening – Rabbit-Proof Fence \nJoin us for a powerful and meaningful evening as we screen Rabbit-Proof Fence (2002)\, a film that shares an important story from First Nations history here in Western Australia. \nBased on a true story\, the film follows three Aboriginal girls who escape from a government settlement and embark on an incredible 1\,500-mile journey home\, guided by the rabbit-proof fence. It’s a moving story of resilience\, strength\, and the lasting impact of historical policies on Aboriginal families. \nThis screening offers students the opportunity to learn\, reflect\, and engage with First Nations perspectives through film. \n🍿 Free popcorn and soft drink provided\n🎟 Free event – bookings essential (limited spots available) \nBOOK HERE: https://events.humanitix.com/first-nations-movie-screening-rabbit-proof-fence \n📅 Tuesday 21 April\n🕕 6:00PM – 9:00PM\n📍 Luna Leederville \nEvent Schedule:\n6:00pm – Lounge mingling & ticket/voucher collection\n6:30pm – Welcome\n6:35pm – Film screening (Rabbit-Proof Fence\, 1 hr 34 min)\n8:10pm – Event ends \nDisclaimer: \nPhotos may be taken at this event. Please let event staff know on the day if you do not wish your photo to be taken. \nThis is a free screening\, however if you cannot make it on the night\, please let us know\, so we can pass your ticket onto someone else.[/vc_column_text][/vc_column][/vc_row]
URL:https://ecuguild.org.au/event/first-nations-movie-screening-rabbit-proof-fence/
LOCATION:Luna Leederville
CATEGORIES:External
ATTACH;FMTTYPE=image/png:https://ecuguild.org.au/wp-content/uploads/2026/03/Humanitix-FB-event-image-1000-x-500-px.png
END:VEVENT
BEGIN:VEVENT
DTSTART;TZID=Asia/Shanghai:20260424T180000
DTEND;TZID=Asia/Shanghai:20260424T210000
DTSTAMP:20260421T041845
CREATED:20260417T062858Z
LAST-MODIFIED:20260417T063127Z
UID:25031-1777053600-1777064400@ecuguild.org.au
SUMMARY:ECU-UWA Cross Campus Connect
DESCRIPTION:[vc_row][vc_column][vc_column_text css=””]\n Cross Campus Connect | ECU Guild Academic Department × UWA Postgraduate Association\nJoin us for an evening of connection\, collaboration\, and community as the ECU Guild Academic Department partners with the UWA Postgraduate Association to bring students from ECU and UWA together.\nThis cross-campus FREE networking event is designed to help you expand your academic and professional networks\, meet like-minded peers\, and build meaningful connections in a relaxed and welcoming environment.\nEnjoy a free dinner while engaging with students from both universities and take the opportunity to grow your network beyond your own campus.\n Transport (ECU students only):A return bus will depart ECU Joondalup Campus at 5:00pm and travel to UWA\, with return transport provided after the event.\n Friday\, 24 April 2026 UWA Campus 6:00pm – 9:00pm\n Spots are limited – register early to secure your place and be part of this cross-campus experience.\nCLICK HERE TO BOOK\n[/vc_column_text][/vc_column][/vc_row]
URL:https://ecuguild.org.au/event/ecu-uwa-cross-campus-connect/
LOCATION:UWA Tavern
CATEGORIES:External
ATTACH;FMTTYPE=image/png:https://ecuguild.org.au/wp-content/uploads/2026/04/Humanitix-FB-event-image-1000-x-500-px-13.png
END:VEVENT
BEGIN:VEVENT
DTSTART;TZID=Asia/Shanghai:20260429T100000
DTEND;TZID=Asia/Shanghai:20260429T120000
DTSTAMP:20260421T041845
CREATED:20260417T043834Z
LAST-MODIFIED:20260417T043834Z
UID:25025-1777456800-1777464000@ecuguild.org.au
SUMMARY:ECU Student Guild Annual General Meeting (AGM)
DESCRIPTION:[vc_row][vc_column][vc_column_text css=””]\n\nThe Annual General Meeting (AGM) will be held as follows:\n\n\n \n\n\n📅 Date: Wednesday\, 29 April 2026\n\n\n⏰ Time: 10:00am – 12:00pm\n\n\n📍 Location:\n\n\nJoondalup Campus\n\n\nBuilding 1\, Room 447 (Council Chambers)\n\n\n💻 Online attendance: Available via Microsoft Teams\n\n\n \n\n\nLight refreshments will be provided for attendees.\n\n\n \n\n\n👥 Who can attend\n\n\nThe AGM is open to all current ECU Student Guild Members. Members may attend either in person or online.\n\n\n \n\n\nStudents unable to attend in person may participate via Microsoft Teams. Online attendees will receive the Teams link within 24 hours prior to the meeting.\n\n\n \n\n\n📝 Registration\n\n\nIn-person attendance: Registration is encouraged to assist with catering.\n\n\n👉 https://bit.ly/4tLXn6a\n\n\n \n\n\nOnline attendance: Registration is required\n\n\n \n\n\n📌 Submitting business for the agenda\n\n\nThe deadline for submitting business to the agenda has now closed.\n\n\n \n\n\n🗳️ Proxy voting\n\n\nMembers unable to attend may appoint a proxy to vote on their behalf. Proxy forms must be submitted no later than 48 hours prior to the AGM.\n\n\n👉 Register a proxy: https://bit.ly/4mxgLRU\n\n\n \n\n\nWe look forward to your participation in the AGM and your contribution to the future direction of the ECU Student Guild.\n\n[/vc_column_text][/vc_column][/vc_row]
URL:https://ecuguild.org.au/event/ecu-student-guild-annual-general-meeting-agm/
LOCATION:ECU Joondalup\, 270 Joondalup Drive\, Joondalup\, WA\, 6027\, Australia
CATEGORIES:ECU Joondalup
ATTACH;FMTTYPE=image/png:https://ecuguild.org.au/wp-content/uploads/2026/04/Humanitix-FB-event-image-1000-x-500-px-10.png
END:VEVENT
END:VCALENDAR