BEGIN:VCALENDAR
VERSION:2.0
PRODID:-//Edith Cowan University Student Guild - ECPv6.15.20//NONSGML v1.0//EN
CALSCALE:GREGORIAN
METHOD:PUBLISH
X-WR-CALNAME:Edith Cowan University Student Guild
X-ORIGINAL-URL:https://ecuguild.org.au
X-WR-CALDESC:Events for Edith Cowan University Student Guild
REFRESH-INTERVAL;VALUE=DURATION:PT1H
X-Robots-Tag:noindex
X-PUBLISHED-TTL:PT1H
BEGIN:VTIMEZONE
TZID:Asia/Shanghai
BEGIN:STANDARD
TZOFFSETFROM:+0800
TZOFFSETTO:+0800
TZNAME:CST
DTSTART:20240101T000000
END:STANDARD
END:VTIMEZONE
BEGIN:VEVENT
DTSTART;TZID=Asia/Shanghai:20251022T110000
DTEND;TZID=Asia/Shanghai:20251022T140000
DTSTAMP:20260421T073353
CREATED:20250925T074900Z
LAST-MODIFIED:20251017T052132Z
UID:23716-1761130800-1761141600@ecuguild.org.au
SUMMARY:Mount Lawley Farewell
DESCRIPTION:[vc_row][vc_column][vc_column_text css=””]Mount Lawley Farewell \n📅 Wednesday 22 October\n🕚 11:00 AM – 2:00 PM\n📍 ECU Mount Lawley Campus\n⚡ Free event for students – just turn up! \nIt’s time to say goodbye to our much-loved Mount Lawley campus. Join the Guild and ECU in celebrating the memories\, friendships\, and milestones that have made this campus so special. \n✨ Information and support to help with the transition to the new City Campus\n✨ Nostalgic and farewell activities\n✨ An aerial group photo – be part of the last group photo ever taken at Mount Lawley!\n✨ Free BBQ & giveaways\n✨ DJ tunes to keep the vibes high \nCome together one last time to celebrate the good times and give Mount Lawley an exciting send-off![/vc_column_text][/vc_column][/vc_row]
URL:https://ecuguild.org.au/event/mount-lawley-farewell/
LOCATION:ECU Mount Lawley\, Perth\, WA\, 6050\, Australia
CATEGORIES:ECU Mount Lawley
ATTACH;FMTTYPE=image/png:https://ecuguild.org.au/wp-content/uploads/2025/09/Humanitix-FB-event-image-83.png
END:VEVENT
BEGIN:VEVENT
DTSTART;TZID=Asia/Shanghai:20251020T183000
DTEND;TZID=Asia/Shanghai:20251020T223000
DTSTAMP:20260421T073353
CREATED:20251002T040927Z
LAST-MODIFIED:20251015T071503Z
UID:23870-1760985000-1760999400@ecuguild.org.au
SUMMARY:2025 ECU Student Guild Awards Night
DESCRIPTION:[vc_row][vc_column][vc_column_text css=””]\nCelebrate excellence\, leadership\, and community at the 2025 ECU Student Guild Awards Night. \nThis special evening recognises the outstanding contributions of our Staff\, Senate\, Representatives\, and Clubs\, whose efforts have made the student experience about more than just achieving a degree — but about building vibrant communities and peer connections. \n📅 Date: Monday 20 October 2025🕡 Time: 6:30 PM – 10:00 PM📍 Venue: Beaumonde on the Point\, Riverside Drive\, East Perth🍽️ Includes: Free buffet dinner + soft drink package (cash bar available for alcohol)📸 Extras: Photo opportunities to capture the night \n🎟️ Tickets: Free to attend (for clubs and reps only) \n\nTier 1 Clubs: up to 5 tickets for committee members\nTier 2\, 3 & 4 Clubs: 2 tickets each for committee members\n\nLet’s come together to celebrate the achievements of our award recipients and look ahead to even greater opportunities in 2026. \n[/vc_column_text][/vc_column][/vc_row]
URL:https://ecuguild.org.au/event/2025-ecu-student-guild-awards-night/
LOCATION:Beaumonde on the Point\, Riverside Drive\, East Perth\, Australia
CATEGORIES:External
ATTACH;FMTTYPE=image/png:https://ecuguild.org.au/wp-content/uploads/2025/10/Humanitix-FB-event-image-90.png
END:VEVENT
BEGIN:VEVENT
DTSTART;TZID=Asia/Shanghai:20250819T120000
DTEND;TZID=Asia/Shanghai:20251125T140000
DTSTAMP:20260421T073353
CREATED:20250818T024120Z
LAST-MODIFIED:20251015T080218Z
UID:23292-1755604800-1764079200@ecuguild.org.au
SUMMARY:Guild Activations On Campus
DESCRIPTION:[vc_row][vc_column][vc_column_text css=””]🎉 Weekly Activations are back including Pop Up Pantry!🎉 \nBrighten your week with fun social events and activities that help you connect with fellow students—all while keeping the good vibes going! \n🗓 When: Tuesdays\, 12pm–2pm\n📍 Where: Outside Building 32\, Joondalup Campus \n🎪 Fun activities\n🌭 Free food & drinks – BBQs\, snacks\, pantry\, and drinks to help cut the cost of living\n🥳 And more! \n👉 Just turn up with your Guild sticker! \n[/vc_column_text][/vc_column][/vc_row]
URL:https://ecuguild.org.au/event/guild-activations-on-campus/
LOCATION:ECU Joondalup\, 270 Joondalup Drive\, Joondalup\, WA\, 6027\, Australia
CATEGORIES:ECU Joondalup
ATTACH;FMTTYPE=image/png:https://ecuguild.org.au/wp-content/uploads/2025/08/Humanitix-FB-event-image-28.png
END:VEVENT
END:VCALENDAR