BEGIN:VCALENDAR
VERSION:2.0
PRODID:-//Edith Cowan University Student Guild - ECPv6.15.20//NONSGML v1.0//EN
CALSCALE:GREGORIAN
METHOD:PUBLISH
X-WR-CALNAME:Edith Cowan University Student Guild
X-ORIGINAL-URL:https://ecuguild.org.au
X-WR-CALDESC:Events for Edith Cowan University Student Guild
REFRESH-INTERVAL;VALUE=DURATION:PT1H
X-Robots-Tag:noindex
X-PUBLISHED-TTL:PT1H
BEGIN:VTIMEZONE
TZID:Asia/Shanghai
BEGIN:STANDARD
TZOFFSETFROM:+0800
TZOFFSETTO:+0800
TZNAME:CST
DTSTART:20250101T000000
END:STANDARD
END:VTIMEZONE
BEGIN:VEVENT
DTSTART;TZID=Asia/Shanghai:20260420T163000
DTEND;TZID=Asia/Shanghai:20260420T193000
DTSTAMP:20260421T200938
CREATED:20260410T073827Z
LAST-MODIFIED:20260417T020644Z
UID:24924-1776702600-1776713400@ecuguild.org.au
SUMMARY:Bengali New Year Celebration
DESCRIPTION:[vc_row][vc_column][vc_column_text css=””]🌸🎉 Ready to celebrate the Bengali New Year? 🎉🌸 \nJoin us for a vibrant Pohela Boishakh celebration at ECU Joondalup and experience the colour\, music\, and energy of this beautiful cultural festival ✨ \n📅 Monday 20 April\n⏰ 4:30 PM – 7:30 PM **NEW TIME**\n📍 Outside the Library\, ECU Joondalup Campus \nExpect an afternoon full of:\n🎶 Music & cultural vibes\n💃 Festive energy & celebration\n🍛 Delicious snacks\n🎨 Colour\, tradition & fun activities\n🤝 A chance to connect with friends old & new \nCelebrate your roots or discover something new — everyone is welcome 💛 \n🌼 সবাইকে নববর্ষের শুভেচ্ছা!\n(Happy New Year to everyone!) \n#PohelaBoishakh #BengaliNewYear #ECUEvents #StudentLife #CulturalCelebration[/vc_column_text][/vc_column][/vc_row]
URL:https://ecuguild.org.au/event/bengali-new-year-celebration/
LOCATION:ECU Joondalup\, 270 Joondalup Drive\, Joondalup\, WA\, 6027\, Australia
ATTACH;FMTTYPE=image/png:https://ecuguild.org.au/wp-content/uploads/2026/04/Humanitix-FB-event-image-1000-x-500-px-11.png
END:VEVENT
BEGIN:VEVENT
DTSTART;TZID=Asia/Shanghai:20260421T133000
DTEND;TZID=Asia/Shanghai:20260421T150000
DTSTAMP:20260421T200938
CREATED:20260331T055918Z
LAST-MODIFIED:20260417T014103Z
UID:24915-1776778200-1776783600@ecuguild.org.au
SUMMARY:Sustainability & YOU Festival!
DESCRIPTION:[vc_row][vc_column][vc_column_text css=””]\nGet hands-on with eco-friendly fun at ECU Joondalup! \n\n Activities Include: Design your own tote bag Decorate a Keep Cup or glass Make your own cutlery pouch Take part in the Recycling Challenge & win prizes! Free food for all attendees\n\nBring your favorite bottle\, cup\, or bag — or grab one to design and keep! Reduce waste on campus while making sustainability your everyday habit. \n\n When: Tuesday\, 21 April 2026 Time: 1:30 PM – 3:00 PM Where: In front of Building 32 grass area\, Joondalup Campus\nSchedule:\n12:00–12:15 → Students arrive12:15–12:20 → Welcome & intro from the Environmental Department12:20–12:40 → Guest Speaker: City of Joondalup Waste Management Talk12:40–13:30 → Activity Stations Open\n\nBring your creativity and join us for a fun\, eco-friendly afternoon!  Just turn up and join in the fun!\n[/vc_column_text][/vc_column][/vc_row]
URL:https://ecuguild.org.au/event/sustainability-you-festival/
LOCATION:ECU Joondalup\, 270 Joondalup Drive\, Joondalup\, WA\, 6027\, Australia
CATEGORIES:ECU Joondalup
ATTACH;FMTTYPE=image/png:https://ecuguild.org.au/wp-content/uploads/2026/03/Humanitix-FB-event-image-1000-x-500-px-6.png
END:VEVENT
BEGIN:VEVENT
DTSTART;TZID=Asia/Shanghai:20260421T180000
DTEND;TZID=Asia/Shanghai:20260421T210000
DTSTAMP:20260421T200938
CREATED:20260330T023941Z
LAST-MODIFIED:20260330T042019Z
UID:24875-1776794400-1776805200@ecuguild.org.au
SUMMARY:First Nations Movie Screening - Rabbit Proof Fence
DESCRIPTION:[vc_row][vc_column][vc_column_text css=””]\n🎬 First Nations Film Screening – Rabbit-Proof Fence \nJoin us for a powerful and meaningful evening as we screen Rabbit-Proof Fence (2002)\, a film that shares an important story from First Nations history here in Western Australia. \nBased on a true story\, the film follows three Aboriginal girls who escape from a government settlement and embark on an incredible 1\,500-mile journey home\, guided by the rabbit-proof fence. It’s a moving story of resilience\, strength\, and the lasting impact of historical policies on Aboriginal families. \nThis screening offers students the opportunity to learn\, reflect\, and engage with First Nations perspectives through film. \n🍿 Free popcorn and soft drink provided\n🎟 Free event – bookings essential (limited spots available) \nBOOK HERE: https://events.humanitix.com/first-nations-movie-screening-rabbit-proof-fence \n📅 Tuesday 21 April\n🕕 6:00PM – 9:00PM\n📍 Luna Leederville \nEvent Schedule:\n6:00pm – Lounge mingling & ticket/voucher collection\n6:30pm – Welcome\n6:35pm – Film screening (Rabbit-Proof Fence\, 1 hr 34 min)\n8:10pm – Event ends \nDisclaimer: \nPhotos may be taken at this event. Please let event staff know on the day if you do not wish your photo to be taken. \nThis is a free screening\, however if you cannot make it on the night\, please let us know\, so we can pass your ticket onto someone else.[/vc_column_text][/vc_column][/vc_row]
URL:https://ecuguild.org.au/event/first-nations-movie-screening-rabbit-proof-fence/
LOCATION:Luna Leederville
CATEGORIES:External
ATTACH;FMTTYPE=image/png:https://ecuguild.org.au/wp-content/uploads/2026/03/Humanitix-FB-event-image-1000-x-500-px.png
END:VEVENT
BEGIN:VEVENT
DTSTART;TZID=Asia/Shanghai:20260424T180000
DTEND;TZID=Asia/Shanghai:20260424T210000
DTSTAMP:20260421T200938
CREATED:20260417T062858Z
LAST-MODIFIED:20260417T063127Z
UID:25031-1777053600-1777064400@ecuguild.org.au
SUMMARY:ECU-UWA Cross Campus Connect
DESCRIPTION:[vc_row][vc_column][vc_column_text css=””]\n Cross Campus Connect | ECU Guild Academic Department × UWA Postgraduate Association\nJoin us for an evening of connection\, collaboration\, and community as the ECU Guild Academic Department partners with the UWA Postgraduate Association to bring students from ECU and UWA together.\nThis cross-campus FREE networking event is designed to help you expand your academic and professional networks\, meet like-minded peers\, and build meaningful connections in a relaxed and welcoming environment.\nEnjoy a free dinner while engaging with students from both universities and take the opportunity to grow your network beyond your own campus.\n Transport (ECU students only):A return bus will depart ECU Joondalup Campus at 5:00pm and travel to UWA\, with return transport provided after the event.\n Friday\, 24 April 2026 UWA Campus 6:00pm – 9:00pm\n Spots are limited – register early to secure your place and be part of this cross-campus experience.\nCLICK HERE TO BOOK\n[/vc_column_text][/vc_column][/vc_row]
URL:https://ecuguild.org.au/event/ecu-uwa-cross-campus-connect/
LOCATION:UWA Tavern
CATEGORIES:External
ATTACH;FMTTYPE=image/png:https://ecuguild.org.au/wp-content/uploads/2026/04/Humanitix-FB-event-image-1000-x-500-px-13.png
END:VEVENT
BEGIN:VEVENT
DTSTART;TZID=Asia/Shanghai:20260428T150000
DTEND;TZID=Asia/Shanghai:20260428T170000
DTSTAMP:20260421T200938
CREATED:20260421T035145Z
LAST-MODIFIED:20260421T040045Z
UID:25055-1777388400-1777395600@ecuguild.org.au
SUMMARY:Sri Lanken New Year
DESCRIPTION:[vc_row][vc_column][vc_column_text css=””]\nJoin us as we celebrate the vibrant and joyful Sri Lankan New Year with culture\, community\, and festive vibes! 🎊✨ \n📅 Tuesday 28 April🕒 3:00 PM – 5:00 PM📍 Outside ECU Library (Grass Area) \n🌿 What’s on:🎶 Music & cultural vibes🍛 Delicious traditional treats🎉 Games & activities🤝 Meet new people and connect with friends \nBring your friends and experience the spirit of Sri Lankan culture right here on campus 💛 \n#ECU #SriLankanNewYear #CampusLife #StudentEvents #CulturalCelebration #ECUGuild #PerthEvents \n[/vc_column_text][/vc_column][/vc_row]
URL:https://ecuguild.org.au/event/sri-lanken-new-year/
LOCATION:ECU Joondalup\, 270 Joondalup Drive\, Joondalup\, WA\, 6027\, Australia
CATEGORIES:ECU Joondalup
ATTACH;FMTTYPE=image/png:https://ecuguild.org.au/wp-content/uploads/2026/04/Humanitix-FB-event-image-1000-x-500-px-16.png
END:VEVENT
BEGIN:VEVENT
DTSTART;TZID=Asia/Shanghai:20260429T100000
DTEND;TZID=Asia/Shanghai:20260429T120000
DTSTAMP:20260421T200938
CREATED:20260417T043834Z
LAST-MODIFIED:20260417T043834Z
UID:25025-1777456800-1777464000@ecuguild.org.au
SUMMARY:ECU Student Guild Annual General Meeting (AGM)
DESCRIPTION:[vc_row][vc_column][vc_column_text css=””]\n\nThe Annual General Meeting (AGM) will be held as follows:\n\n\n \n\n\n📅 Date: Wednesday\, 29 April 2026\n\n\n⏰ Time: 10:00am – 12:00pm\n\n\n📍 Location:\n\n\nJoondalup Campus\n\n\nBuilding 1\, Room 447 (Council Chambers)\n\n\n💻 Online attendance: Available via Microsoft Teams\n\n\n \n\n\nLight refreshments will be provided for attendees.\n\n\n \n\n\n👥 Who can attend\n\n\nThe AGM is open to all current ECU Student Guild Members. Members may attend either in person or online.\n\n\n \n\n\nStudents unable to attend in person may participate via Microsoft Teams. Online attendees will receive the Teams link within 24 hours prior to the meeting.\n\n\n \n\n\n📝 Registration\n\n\nIn-person attendance: Registration is encouraged to assist with catering.\n\n\n👉 https://bit.ly/4tLXn6a\n\n\n \n\n\nOnline attendance: Registration is required\n\n\n \n\n\n📌 Submitting business for the agenda\n\n\nThe deadline for submitting business to the agenda has now closed.\n\n\n \n\n\n🗳️ Proxy voting\n\n\nMembers unable to attend may appoint a proxy to vote on their behalf. Proxy forms must be submitted no later than 48 hours prior to the AGM.\n\n\n👉 Register a proxy: https://bit.ly/4mxgLRU\n\n\n \n\n\nWe look forward to your participation in the AGM and your contribution to the future direction of the ECU Student Guild.\n\n[/vc_column_text][/vc_column][/vc_row]
URL:https://ecuguild.org.au/event/ecu-student-guild-annual-general-meeting-agm/
LOCATION:ECU Joondalup\, 270 Joondalup Drive\, Joondalup\, WA\, 6027\, Australia
CATEGORIES:ECU Joondalup
ATTACH;FMTTYPE=image/png:https://ecuguild.org.au/wp-content/uploads/2026/04/Humanitix-FB-event-image-1000-x-500-px-10.png
END:VEVENT
BEGIN:VEVENT
DTSTART;TZID=Asia/Shanghai:20260508T140000
DTEND;TZID=Asia/Shanghai:20260508T170000
DTSTAMP:20260421T200938
CREATED:20260421T061740Z
LAST-MODIFIED:20260421T061740Z
UID:25075-1778248800-1778259600@ecuguild.org.au
SUMMARY:International Student Migration Session
DESCRIPTION:[vc_row][vc_column][vc_column_text css=””]\nFREE Migration Info Session for International Students\n🗓️ Friday 8 May | 🕑 2:00 PM – 5:00 PM\n📍 B7.102\, ECU Joondalup \nAre you an international student navigating student visas\, work rights\, graduate options\, or permanent residency pathways? Join us for a FREE expert-led information session tailored to your journey. Hosted by Pathway Migration & Education Consultants. \nGet clear\, structured advice on: \n\nVisa conditions and common mistakes\nWork rights during and after study\nGraduate visas and PR opportunities\n\n📣 Includes Q&A\, prize giveaways\, and take-home resources.\n🎁 First attendees score free merch! \nDon’t miss your chance to get real answers and plan your future in Australia. \n👉 Spots are limited — register now at https://events.humanitix.com/international-student-migration-session[/vc_column_text][/vc_column][/vc_row]
URL:https://ecuguild.org.au/event/international-student-migration-session/
LOCATION:ECU Joondalup\, 270 Joondalup Drive\, Joondalup\, WA\, 6027\, Australia
CATEGORIES:ECU Joondalup
ATTACH;FMTTYPE=image/png:https://ecuguild.org.au/wp-content/uploads/2026/04/Humanitix-FB-event-image-1000-x-500-px-14.png
END:VEVENT
END:VCALENDAR