BEGIN:VCALENDAR
VERSION:2.0
PRODID:-//Edith Cowan University Student Guild - ECPv6.15.20//NONSGML v1.0//EN
CALSCALE:GREGORIAN
METHOD:PUBLISH
X-ORIGINAL-URL:https://ecuguild.org.au
X-WR-CALDESC:Events for Edith Cowan University Student Guild
REFRESH-INTERVAL;VALUE=DURATION:PT1H
X-Robots-Tag:noindex
X-PUBLISHED-TTL:PT1H
BEGIN:VTIMEZONE
TZID:Asia/Shanghai
BEGIN:STANDARD
TZOFFSETFROM:+0800
TZOFFSETTO:+0800
TZNAME:CST
DTSTART:20240101T000000
END:STANDARD
END:VTIMEZONE
BEGIN:VEVENT
DTSTART;TZID=Asia/Shanghai:20250819T120000
DTEND;TZID=Asia/Shanghai:20251125T140000
DTSTAMP:20260421T092426
CREATED:20250818T024120Z
LAST-MODIFIED:20251015T080218Z
UID:23292-1755604800-1764079200@ecuguild.org.au
SUMMARY:Guild Activations On Campus
DESCRIPTION:[vc_row][vc_column][vc_column_text css=””]🎉 Weekly Activations are back including Pop Up Pantry!🎉 \nBrighten your week with fun social events and activities that help you connect with fellow students—all while keeping the good vibes going! \n🗓 When: Tuesdays\, 12pm–2pm\n📍 Where: Outside Building 32\, Joondalup Campus \n🎪 Fun activities\n🌭 Free food & drinks – BBQs\, snacks\, pantry\, and drinks to help cut the cost of living\n🥳 And more! \n👉 Just turn up with your Guild sticker! \n[/vc_column_text][/vc_column][/vc_row]
URL:https://ecuguild.org.au/event/guild-activations-on-campus/
LOCATION:ECU Joondalup\, 270 Joondalup Drive\, Joondalup\, WA\, 6027\, Australia
CATEGORIES:ECU Joondalup
ATTACH;FMTTYPE=image/png:https://ecuguild.org.au/wp-content/uploads/2025/08/Humanitix-FB-event-image-28.png
END:VEVENT
BEGIN:VEVENT
DTSTART;TZID=Asia/Shanghai:20251119T110000
DTEND;TZID=Asia/Shanghai:20251119T130000
DTSTAMP:20260421T092426
CREATED:20251104T033613Z
LAST-MODIFIED:20251118T014726Z
UID:24061-1763550000-1763557200@ecuguild.org.au
SUMMARY:Paint & Plant
DESCRIPTION:[vc_row][vc_column][vc_column_text css=””]\n Paint and Plant  Have a break and come along for creativity\, gardening\, and good vibes! \n\n Paint your own plant pot Plant a herb or veggie seed/seedling to take home Enjoy some yummy food while you create\n\n All materials provided — just bring your friends and green thumbs\n\n Level 1 outside the library (Joondalup) Wednesday 19 November 11:00am to 1:00pm\n\n#ecustudentguild #paintandplant #greenthumbgoals #artistinthemaking\n[/vc_column_text][/vc_column][/vc_row]
URL:https://ecuguild.org.au/event/paint-plant-2/
LOCATION:ECU Joondalup\, 270 Joondalup Drive\, Joondalup\, WA\, 6027\, Australia
CATEGORIES:ECU Joondalup
ATTACH;FMTTYPE=image/png:https://ecuguild.org.au/wp-content/uploads/2025/11/Humanitix-FB-event-image-2025-11-18T085851.399.png
END:VEVENT
BEGIN:VEVENT
DTSTART;TZID=Asia/Shanghai:20251121T183000
DTEND;TZID=Asia/Shanghai:20251121T230000
DTSTAMP:20260421T092426
CREATED:20250903T054508Z
LAST-MODIFIED:20251030T034726Z
UID:23381-1763749800-1763766000@ecuguild.org.au
SUMMARY:2025 Guild Ball
DESCRIPTION:[vc_row][vc_column][vc_column_text css=””]\n✨ The Guild Ball 2025 – Starry Night ✨ \nGet ready for the most anticipated student event of the year! This year’s ECU Student Guild Ball will be held on Friday 21 November in the elegant Riverview Room 5 at the Perth Convention & Exhibition Centre from 6:30PM – 11:00PM. \nOur student-voted theme is 🌌 Starry Night 🌌 – so dress in your finest glitz and glam for an unforgettable evening under the stars. \n🎟 Ticket prices:\n• Standard (ECU Student Guild Members): $65\n• Non-ECU: $135 \n💫 Your ticket includes:\n• A 3-course dinner (entrée\, main & dessert)\n• Wine\, beer and soft drinks\n• DJ and dancing all night\n• Roaming AI photo booth & photo opportunities\n• Bus to the venue\n• A gift bag for every student\n• A prime city location to continue the night afterwards \nThe Guild Ball is more than just a night out – it’s a celebration of our student community\, and a chance to come together\, make memories\, and celebrate in style. \n🎉 Proudly supported by: UniSuper\, Uptown Joondalup\, Edith Cowan University (ECU)\, Wheatbelt & Beyond Youth Mentoring\, Pathway Migration & Education Consultants\, Perth Caribbean Association\, Only The Human & Flight Centre. \n📅 Don’t miss out – tickets are limited. Book yours today and join us for the social event of the year! \nTHIS IS AN OVER 18 EVENT![/vc_column_text][/vc_column][/vc_row]
URL:https://ecuguild.org.au/event/2025-guild-ball/
LOCATION:Perth Convention Exhibition Centre\, 21 Mounts Bay Road\, Perth\, WA\, 6000\, Australia
CATEGORIES:External
ATTACH;FMTTYPE=image/png:https://ecuguild.org.au/wp-content/uploads/2025/09/Humanitix-FB-event-image-2025-10-29T115744.200.png
END:VEVENT
BEGIN:VEVENT
DTSTART;TZID=Asia/Shanghai:20251122T190000
DTEND;TZID=Asia/Shanghai:20251123T010000
DTSTAMP:20260421T092426
CREATED:20251023T004932Z
LAST-MODIFIED:20251023T010952Z
UID:24005-1763838000-1763859600@ecuguild.org.au
SUMMARY:End of Semester Party
DESCRIPTION:[vc_row][vc_column][vc_column_text css=””]🎉 END OF SEMESTER PARTY 🎉 \n📚 Semester’s nearly over — and you know what that means… it’s time to PARTY! 🥳 \nJoin us at Bar1 Nightclub for the ultimate end-of-semester celebration. You’ve worked hard\, now it’s time to unwind\, dance\, and celebrate with your mates before summer break hits. \nExpect:\n🔥 DJ spinning your favourite tracks\n🍹 Free drink on entry\n💃 Clubbing ’til late \n📅 Saturday\, November 22\n🕖 Doors open 7:00 PM – Late\n📍 Bar1 Nightclub\, 17/58 Southside Dr\, Hillarys WA 6025 \n🎟️ Tickets:\n🎫 Early Bird (ECU Students) – $10\n🎫 ECU Students – $15\n🎫 Non-ECU Students – $25 \nLet’s finish strong — see you on the dance floor! 🪩 \n#Bar1Nightclub #EndOfSemesterParty #ECUStudentLife #ClubbingVibes #StudentNightOut \n📣 Reminder: Please bring a valid government-issued ID for entry — such as a passport\, Australian driver’s license\, or photo card.\n⚠️ Student ID cards are not accepted.[/vc_column_text][/vc_column][/vc_row]
URL:https://ecuguild.org.au/event/end-of-semester-party/
LOCATION:Bar1 Nightclub\, Hillarys
ATTACH;FMTTYPE=image/png:https://ecuguild.org.au/wp-content/uploads/2025/10/Humanitix-FB-event-image-2025-10-21T150914.755.png
END:VEVENT
END:VCALENDAR