BEGIN:VCALENDAR
VERSION:2.0
PRODID:-//Edith Cowan University Student Guild - ECPv6.15.20//NONSGML v1.0//EN
CALSCALE:GREGORIAN
METHOD:PUBLISH
X-WR-CALNAME:Edith Cowan University Student Guild
X-ORIGINAL-URL:https://ecuguild.org.au
X-WR-CALDESC:Events for Edith Cowan University Student Guild
REFRESH-INTERVAL;VALUE=DURATION:PT1H
X-Robots-Tag:noindex
X-PUBLISHED-TTL:PT1H
BEGIN:VTIMEZONE
TZID:Asia/Shanghai
BEGIN:STANDARD
TZOFFSETFROM:+0800
TZOFFSETTO:+0800
TZNAME:CST
DTSTART:20250101T000000
END:STANDARD
END:VTIMEZONE
BEGIN:VEVENT
DTSTART;TZID=Asia/Shanghai:20260429T100000
DTEND;TZID=Asia/Shanghai:20260429T120000
DTSTAMP:20260421T060108
CREATED:20260417T043834Z
LAST-MODIFIED:20260417T043834Z
UID:25025-1777456800-1777464000@ecuguild.org.au
SUMMARY:ECU Student Guild Annual General Meeting (AGM)
DESCRIPTION:[vc_row][vc_column][vc_column_text css=””]\n\nThe Annual General Meeting (AGM) will be held as follows:\n\n\n \n\n\n📅 Date: Wednesday\, 29 April 2026\n\n\n⏰ Time: 10:00am – 12:00pm\n\n\n📍 Location:\n\n\nJoondalup Campus\n\n\nBuilding 1\, Room 447 (Council Chambers)\n\n\n💻 Online attendance: Available via Microsoft Teams\n\n\n \n\n\nLight refreshments will be provided for attendees.\n\n\n \n\n\n👥 Who can attend\n\n\nThe AGM is open to all current ECU Student Guild Members. Members may attend either in person or online.\n\n\n \n\n\nStudents unable to attend in person may participate via Microsoft Teams. Online attendees will receive the Teams link within 24 hours prior to the meeting.\n\n\n \n\n\n📝 Registration\n\n\nIn-person attendance: Registration is encouraged to assist with catering.\n\n\n👉 https://bit.ly/4tLXn6a\n\n\n \n\n\nOnline attendance: Registration is required\n\n\n \n\n\n📌 Submitting business for the agenda\n\n\nThe deadline for submitting business to the agenda has now closed.\n\n\n \n\n\n🗳️ Proxy voting\n\n\nMembers unable to attend may appoint a proxy to vote on their behalf. Proxy forms must be submitted no later than 48 hours prior to the AGM.\n\n\n👉 Register a proxy: https://bit.ly/4mxgLRU\n\n\n \n\n\nWe look forward to your participation in the AGM and your contribution to the future direction of the ECU Student Guild.\n\n[/vc_column_text][/vc_column][/vc_row]
URL:https://ecuguild.org.au/event/ecu-student-guild-annual-general-meeting-agm/
LOCATION:ECU Joondalup\, 270 Joondalup Drive\, Joondalup\, WA\, 6027\, Australia
CATEGORIES:ECU Joondalup
ATTACH;FMTTYPE=image/png:https://ecuguild.org.au/wp-content/uploads/2026/04/Humanitix-FB-event-image-1000-x-500-px-10.png
END:VEVENT
END:VCALENDAR