BEGIN:VCALENDAR
VERSION:2.0
PRODID:-//Edith Cowan University Student Guild - ECPv6.15.20//NONSGML v1.0//EN
CALSCALE:GREGORIAN
METHOD:PUBLISH
X-ORIGINAL-URL:https://ecuguild.org.au
X-WR-CALDESC:Events for Edith Cowan University Student Guild
REFRESH-INTERVAL;VALUE=DURATION:PT1H
X-Robots-Tag:noindex
X-PUBLISHED-TTL:PT1H
BEGIN:VTIMEZONE
TZID:Asia/Shanghai
BEGIN:STANDARD
TZOFFSETFROM:+0800
TZOFFSETTO:+0800
TZNAME:CST
DTSTART:20250101T000000
END:STANDARD
END:VTIMEZONE
BEGIN:VEVENT
DTSTART;TZID=Asia/Shanghai:20260413T150000
DTEND;TZID=Asia/Shanghai:20260413T173000
DTSTAMP:20260425T001917
CREATED:20260331T052022Z
LAST-MODIFIED:20260424T054719Z
UID:24910-1776092400-1776101400@ecuguild.org.au
SUMMARY:Zone Bowling & Lasertag
DESCRIPTION:[vc_row][vc_column][vc_column_text css=””]\n🎳✨ A Night of Fun Awaits! ✨🔫 \nThe ECU Student Guild invites all international students to join us for an action-packed afternoon at Zone Bowling Joondalup! 🎉 \nGet ready to bowl\, battle it out in laser tag\, and enjoy some arcade fun with friends. Whether you’re showing off your competitive side or just here for a good time\, this is the perfect chance to relax\, connect\, and make new memories. 🌍💛 \n\n🗓️ Event Details\nDate: Friday 22 May\nTime: Arrive at 3:00PM for a 3:20PM start\nLocation: Zone Bowling Joondalup \n\n🎟️ Your Ticket Includes ($20):\n🎳 1 Game of Bowling\n🔫 1 Game of Laser Tag\n🕹️ 20 Minutes of Arcade Time\n☕ $5 Café Voucher \n\nSpots are limited\, so don’t miss out on this fun-filled experience! \nBook now at https://events.humanitix.com/zone-bowling-and-lasertag \n🚫 Please note: This event is strictly for ECU students only (no +1’s). \nPhotos will be taken at this event. If you do not wish your photograph to be taken\, please let event staff know.[/vc_column_text][/vc_column][/vc_row]
URL:https://ecuguild.org.au/event/zone-bowling-lasertag/
LOCATION:Zone Bowling Joondalup
CATEGORIES:External
ATTACH;FMTTYPE=image/png:https://ecuguild.org.au/wp-content/uploads/2026/03/Humanitix-FB-event-image-1000-x-500-px-5.png
END:VEVENT
END:VCALENDAR