BEGIN:VCALENDAR
VERSION:2.0
PRODID:-//Edith Cowan University Student Guild - ECPv6.15.20//NONSGML v1.0//EN
CALSCALE:GREGORIAN
METHOD:PUBLISH
X-ORIGINAL-URL:https://ecuguild.org.au
X-WR-CALDESC:Events for Edith Cowan University Student Guild
REFRESH-INTERVAL;VALUE=DURATION:PT1H
X-Robots-Tag:noindex
X-PUBLISHED-TTL:PT1H
BEGIN:VTIMEZONE
TZID:Asia/Shanghai
BEGIN:STANDARD
TZOFFSETFROM:+0800
TZOFFSETTO:+0800
TZNAME:CST
DTSTART:20250101T000000
END:STANDARD
END:VTIMEZONE
BEGIN:VEVENT
DTSTART;TZID=Asia/Shanghai:20260424T180000
DTEND;TZID=Asia/Shanghai:20260424T210000
DTSTAMP:20260421T092722
CREATED:20260417T062858Z
LAST-MODIFIED:20260417T063127Z
UID:25031-1777053600-1777064400@ecuguild.org.au
SUMMARY:ECU-UWA Cross Campus Connect
DESCRIPTION:[vc_row][vc_column][vc_column_text css=””]\n Cross Campus Connect | ECU Guild Academic Department × UWA Postgraduate Association\nJoin us for an evening of connection\, collaboration\, and community as the ECU Guild Academic Department partners with the UWA Postgraduate Association to bring students from ECU and UWA together.\nThis cross-campus FREE networking event is designed to help you expand your academic and professional networks\, meet like-minded peers\, and build meaningful connections in a relaxed and welcoming environment.\nEnjoy a free dinner while engaging with students from both universities and take the opportunity to grow your network beyond your own campus.\n Transport (ECU students only):A return bus will depart ECU Joondalup Campus at 5:00pm and travel to UWA\, with return transport provided after the event.\n Friday\, 24 April 2026 UWA Campus 6:00pm – 9:00pm\n Spots are limited – register early to secure your place and be part of this cross-campus experience.\nCLICK HERE TO BOOK\n[/vc_column_text][/vc_column][/vc_row]
URL:https://ecuguild.org.au/event/ecu-uwa-cross-campus-connect/
LOCATION:UWA Tavern
CATEGORIES:External
ATTACH;FMTTYPE=image/png:https://ecuguild.org.au/wp-content/uploads/2026/04/Humanitix-FB-event-image-1000-x-500-px-13.png
END:VEVENT
END:VCALENDAR