BEGIN:VCALENDAR
VERSION:2.0
PRODID:-//Edith Cowan University Student Guild - ECPv6.15.20//NONSGML v1.0//EN
CALSCALE:GREGORIAN
METHOD:PUBLISH
X-WR-CALNAME:Edith Cowan University Student Guild
X-ORIGINAL-URL:https://ecuguild.org.au
X-WR-CALDESC:Events for Edith Cowan University Student Guild
REFRESH-INTERVAL;VALUE=DURATION:PT1H
X-Robots-Tag:noindex
X-PUBLISHED-TTL:PT1H
BEGIN:VTIMEZONE
TZID:Asia/Shanghai
BEGIN:STANDARD
TZOFFSETFROM:+0800
TZOFFSETTO:+0800
TZNAME:CST
DTSTART:20250101T000000
END:STANDARD
END:VTIMEZONE
BEGIN:VEVENT
DTSTART;TZID=Asia/Shanghai:20260421T180000
DTEND;TZID=Asia/Shanghai:20260421T210000
DTSTAMP:20260421T041444
CREATED:20260330T023941Z
LAST-MODIFIED:20260330T042019Z
UID:24875-1776794400-1776805200@ecuguild.org.au
SUMMARY:First Nations Movie Screening - Rabbit Proof Fence
DESCRIPTION:[vc_row][vc_column][vc_column_text css=””]\n🎬 First Nations Film Screening – Rabbit-Proof Fence \nJoin us for a powerful and meaningful evening as we screen Rabbit-Proof Fence (2002)\, a film that shares an important story from First Nations history here in Western Australia. \nBased on a true story\, the film follows three Aboriginal girls who escape from a government settlement and embark on an incredible 1\,500-mile journey home\, guided by the rabbit-proof fence. It’s a moving story of resilience\, strength\, and the lasting impact of historical policies on Aboriginal families. \nThis screening offers students the opportunity to learn\, reflect\, and engage with First Nations perspectives through film. \n🍿 Free popcorn and soft drink provided\n🎟 Free event – bookings essential (limited spots available) \nBOOK HERE: https://events.humanitix.com/first-nations-movie-screening-rabbit-proof-fence \n📅 Tuesday 21 April\n🕕 6:00PM – 9:00PM\n📍 Luna Leederville \nEvent Schedule:\n6:00pm – Lounge mingling & ticket/voucher collection\n6:30pm – Welcome\n6:35pm – Film screening (Rabbit-Proof Fence\, 1 hr 34 min)\n8:10pm – Event ends \nDisclaimer: \nPhotos may be taken at this event. Please let event staff know on the day if you do not wish your photo to be taken. \nThis is a free screening\, however if you cannot make it on the night\, please let us know\, so we can pass your ticket onto someone else.[/vc_column_text][/vc_column][/vc_row]
URL:https://ecuguild.org.au/event/first-nations-movie-screening-rabbit-proof-fence/
LOCATION:Luna Leederville
CATEGORIES:External
ATTACH;FMTTYPE=image/png:https://ecuguild.org.au/wp-content/uploads/2026/03/Humanitix-FB-event-image-1000-x-500-px.png
END:VEVENT
END:VCALENDAR