BEGIN:VCALENDAR
VERSION:2.0
PRODID:-//Edith Cowan University Student Guild - ECPv6.15.20//NONSGML v1.0//EN
CALSCALE:GREGORIAN
METHOD:PUBLISH
X-WR-CALNAME:Edith Cowan University Student Guild
X-ORIGINAL-URL:https://ecuguild.org.au
X-WR-CALDESC:Events for Edith Cowan University Student Guild
REFRESH-INTERVAL;VALUE=DURATION:PT1H
X-Robots-Tag:noindex
X-PUBLISHED-TTL:PT1H
BEGIN:VTIMEZONE
TZID:Asia/Shanghai
BEGIN:STANDARD
TZOFFSETFROM:+0800
TZOFFSETTO:+0800
TZNAME:CST
DTSTART:20250101T000000
END:STANDARD
END:VTIMEZONE
BEGIN:VEVENT
DTSTART;TZID=Asia/Shanghai:20260226T103000
DTEND;TZID=Asia/Shanghai:20260226T140000
DTSTAMP:20260422T001923
CREATED:20251211T004237Z
LAST-MODIFIED:20260224T054729Z
UID:24213-1772101800-1772114400@ecuguild.org.au
SUMMARY:Guild Fair 2026 | Joondalup
DESCRIPTION:[vc_row][vc_column][vc_column_text css=””]Get ready\, ECU students — one of the biggest events on the Guild calendar is back! \nGuild Fair 2026 kicks off at Joondalup Campus and is your chance to explore campus life\, grab freebies\, and discover everything ECU has to offer. \nJoin us on Thursday 26 February 2026 for one of the biggest and most vibrant events on the ECU Student Guild calendar. Whether you’re new to ECU or returning for another year\, Guild Fair is the perfect way to discover everything student life has to offer. \n🌟 What to Expect\nDozens of clubs\, societies\, and student groups\nFreebies\, giveaways & activities\nLocal businesses and community organisations\nStudent services and support\nEntertainment\, stalls\, and heaps to explore \nGuild Fair is the biggest day on campus—get involved\, get connected\, and get inspired! \n🏫 Event Details\n📍 Location: ECU Joondalup Campus\n📅 Date: Thursday 26 February 2026\n🕙 Time: 10:30am – 2:00pm \n💡 Want to Run a Stall?\nStudents can apply for a stall at a subsidised rate\, making this a great opportunity to showcase your small business\, project\, or club. Bookings are now open!\n👉 https://ecustudentguild2015.formstack.com/forms/guild_fair_vendor_form_external_2025  \nCity Campus Update:\nWhile Semester 1’s Guild Fair will be Joondalup-only\, we’ll be heading to the new ECU City Campus for a second Fair in Semester 2\, July 2026 to celebrate its official opening! \nECU South-West\nECU Guild will be heading down to Bunbury on Wednesday 4 March for Guild Fair SW! More info at ecuguild.org.au/event/guild-fair-bunbury/ \nCome along\, explore campus life\, and start your 2026 with a bang.\nSee you at Guild Fair![/vc_column_text][/vc_column][/vc_row]
URL:https://ecuguild.org.au/event/guild-fair-2026-joondalup/
LOCATION:ECU Joondalup\, 270 Joondalup Drive\, Joondalup\, WA\, 6027\, Australia
CATEGORIES:ECU Joondalup
ATTACH;FMTTYPE=image/png:https://ecuguild.org.au/wp-content/uploads/2025/12/Humanitix-FB-event-image-4.png
END:VEVENT
END:VCALENDAR